BEGIN:VCALENDAR
VERSION:2.0
PRODID:-//AudioTheme 1.8.2
BEGIN:VEVENT
UID:http://www.labushwickbookclub.com/?post_type=audiotheme_gig&#038;p=202
URL:https://www.labushwickbookclub.com/shows/howl-and-other-poems/
DTSTART;TZID=GMT:20210615T000000
SUMMARY:Howl and Other Poems
DESCRIPTION:“with dreams\, with drugs\, with waking nightmares\, alcohol and cock and endless balls”  ― Allen Ginsberg
LOCATION:Streaming Online\, Streaming Live Online\, 
END:VEVENT
END:VCALENDAR